BEGIN:VCALENDAR
VERSION:2.0
PRODID:-//SOLI&#039;EXPO - ECPv4.6.14.1//NONSGML v1.0//EN
CALSCALE:GREGORIAN
METHOD:PUBLISH
X-WR-CALNAME:SOLI&#039;EXPO
X-ORIGINAL-URL:https://www.soliexpo.com
X-WR-CALDESC:Events for SOLI&#039;EXPO
BEGIN:VEVENT
DTSTART;VALUE=DATE:20181123
DTEND;VALUE=DATE:20181127
DTSTAMP:20260421T114536
CREATED:20180301T141857Z
LAST-MODIFIED:20180301T141857Z
UID:8658-1542931200-1543276799@www.soliexpo.com
SUMMARY:SALON GASTRONOMIE ET VINS ORLÉANS 2018
DESCRIPTION:Le salon gastronomie et vins vous donne rendez-vous du 23 au 26 novembre 2018 au Parc des expositions d’Orléans. \nVenez découvrir le temps de quelques jours\, les meilleurs vins\, la qualité des productions locales\, régionales et nationales dans une ambiance chaleureuse.  Pour cela\, plus de 200 exposants seront présents. \n
URL:https://www.soliexpo.com/event/salon-gastronomie-vins-orleans-2018/
CATEGORIES:Salons
ATTACH;FMTTYPE=image/jpeg:https://www.soliexpo.com/wp-content/uploads/2018/03/181653_salon-gastronomie-et-vins.jpg
END:VEVENT
END:VCALENDAR